BEGIN:VCALENDAR
VERSION:2.0
PRODID:-//wp-events-plugin.com//7.2.3.1//EN
TZID:America/Vancouver
X-WR-TIMEZONE:America/Vancouver
BEGIN:VEVENT
UID:29@greatdividetrail.com
DTSTART;TZID=America/Edmonton:20251016T180000
DTEND;TZID=America/Edmonton:20251016T210000
DTSTAMP:20251014T150618Z
URL:https://greatdividetrail.com/events/end-of-season-wrap-up-2/
SUMMARY:End of Season Wrap Up!
DESCRIPTION:Join us at Prairie Dog Brewing on Thursday\, October 16th from 
 6–9 pm for a casual meetup with the Great Divide Trail community—past\
 , present\, and future hikers welcome! ??\n\nWhether you’ve thru-hiked\,
  sectioned hiked\, volunteered on trail\, or you’re just GDT-curious\, c
 ome swap stories\, meet new trail friends\, and enjoy great food &amp\; dr
 inks.
CATEGORIES:In Person Events
LOCATION:Prairie Dog Brewing\, 105 58 Ave SE\, Calgary\, Alberta\, T2H 0N8\
 , Canada
X-APPLE-STRUCTURED-LOCATION;VALUE=URI;X-ADDRESS=105 58 Ave SE\, Calgary\, A
 lberta\, T2H 0N8\, Canada;X-APPLE-RADIUS=100;X-TITLE=Prairie Dog Brewing:g
 eo:0,0
END:VEVENT
BEGIN:VTIMEZONE
TZID:America/Edmonton
X-LIC-LOCATION:America/Edmonton
BEGIN:DAYLIGHT
DTSTART:20250309T030000
TZOFFSETFROM:-0700
TZOFFSETTO:-0600
TZNAME:MDT
END:DAYLIGHT
END:VTIMEZONE
END:VCALENDAR