BEGIN:VCALENDAR
VERSION:2.0
PRODID:-//wp-events-plugin.com//7.2.3.1//EN
TZID:America/Vancouver
X-WR-TIMEZONE:America/Vancouver
BEGIN:VEVENT
UID:33@greatdividetrail.com
DTSTART;TZID=America/Edmonton:20260116T180000
DTEND;TZID=America/Edmonton:20260116T200000
DTSTAMP:20260112T220106Z
URL:https://greatdividetrail.com/events/gdt-2026-trail-planning-and-permit
 s/
SUMMARY:GDT 2026 - Trail Planning and Permits
DESCRIPTION:Our annual webinar with section-by-section overviews\, tips on 
 planning a trip\, and a walkthrough of the reservation system.\n\nThis web
 inar focuses on thru-hiking\, but it is applicable to anyone wishing to hi
 ke on the GDT this year. We will have an overview of each section\, altern
 ates\, options for shorter loops\, and exit locations. We will cover the r
 esupply locations and finish with a tutorial on the various reservation sy
 stems for booking campsites along the trail.\n\n
ATTACH;FMTTYPE=image/jpeg:https://greatdividetrail.com/wp-content/uploads/
 2023/01/peter_rowlands_hiking_4.jpg
CATEGORIES:Webinar
LOCATION:https://teams.microsoft.com/l/meetup-join/19%3ameeting_MWY0MmFkZGY
 tMDZhNS00YTk2LWFjODAtMzA1MDNkMDQwODU4%40thread.v2/0?context=%7b%22Tid%22%3
 a%22bba57fee-858f-40d3-b1ad-7abbddadb7ad%22%2c%22Oid%22%3a%2208b123b8-4bfc
 -4c1f-ac56-6eb4bc333561%22%7d
END:VEVENT
BEGIN:VTIMEZONE
TZID:America/Edmonton
X-LIC-LOCATION:America/Edmonton
BEGIN:STANDARD
DTSTART:20251102T010000
TZOFFSETFROM:-0600
TZOFFSETTO:-0700
TZNAME:MST
END:STANDARD
END:VTIMEZONE
END:VCALENDAR