BEGIN:VCALENDAR
VERSION:2.0
PRODID:-//wp-events-plugin.com//7.2.3.1//EN
TZID:America/Vancouver
X-WR-TIMEZONE:America/Vancouver
BEGIN:VEVENT
UID:19@greatdividetrail.com
DTSTART;TZID=America/Edmonton:20240511T100000
DTEND;TZID=America/Edmonton:20240511T150000
DTSTAMP:20240223T235928Z
URL:https://greatdividetrail.com/events/geartrade-garage-sale/
SUMMARY:Geartrade Garage Sale
DESCRIPTION:Are you overwhelmed with camping gear you no longer use\, or ar
 e you eager to upgrade your outdoor equipment without burning a hole in yo
 ur pocket? Look no further! Grab your used gear that you are ready to part
  with\, and join us at the Geartrade Gear Sale on May 11th\, 2024\, from 1
 0 AM to 3 PM – a Garage Sale event where the camping community comes tog
 ether to buy\, sell\, and trade their high-quality gear!\n\nThe $20 cost o
 f securing your space to sell your items\, directly supports the Great Div
 ide Trail Association. All funds will be donated to the GDTA!\n\nBy making
  this purchase\, you'll be reserving your 8' x 8' space for the event. Hur
 ry\, as spaces are limited and reservations are non-refundable.&nbsp\;\n\n
 Please note that tables will not be provided\, so we recommend bringing yo
 ur own table or blanket to display and sell your gear. Join us in the park
 ing lot of our building for a day of outdoor gear enthusiasts connecting a
 nd exchanging equipment!\n\nClick here to secure your space!\n\nThis is an
  in-person event\, held in the Geartrade.ca parking lot! We are located at
  6 Fisher Cres in Okotoks\, AB.\n\nQ: "But Michelle\, what if I don't have
  anything I want to sell\, and I just want to come to browse and hopefully
  purchase some used gear?"\n\nA: No worries! This event will be free to at
 tend if you have nothing to sell! We are so excited to host the outdoor co
 mmunity and chat about gear and summer hiking plans.\n\n&nbsp\;
ATTACH;FMTTYPE=image/jpeg:https://greatdividetrail.com/wp-content/uploads/
 2024/02/Geartrade.png
CATEGORIES:In Person Events
LOCATION:Geartrade\, 6 Fisher Cres\, Okotoks\, Alberta \, Canada
GEO:50.723201;-113.953384
X-APPLE-STRUCTURED-LOCATION;VALUE=URI;X-ADDRESS=6 Fisher Cres\, Okotoks\, A
 lberta \, Canada;X-APPLE-RADIUS=100;X-TITLE=Geartrade:geo:50.723201,-113.9
 53384
END:VEVENT
BEGIN:VTIMEZONE
TZID:America/Edmonton
X-LIC-LOCATION:America/Edmonton
BEGIN:DAYLIGHT
DTSTART:20240310T030000
TZOFFSETFROM:-0700
TZOFFSETTO:-0600
TZNAME:MDT
END:DAYLIGHT
END:VTIMEZONE
END:VCALENDAR