BEGIN:VCALENDAR
VERSION:2.0
PRODID:-//wp-events-plugin.com//7.2.3.1//EN
TZID:America/Vancouver
X-WR-TIMEZONE:America/Vancouver
BEGIN:VEVENT
UID:49@greatdividetrail.com
DTSTART;TZID=America/Edmonton:20260513T183000
DTEND;TZID=America/Edmonton:20260513T220000
DTSTAMP:20260330T221746Z
URL:https://greatdividetrail.com/events/great-divide-trail-film-festival-f
 undraiser-edmonton-screening-social/
SUMMARY:Great Divide Trail Film Festival & Fundraiser - Edmonton Screening 
 & Social
DESCRIPTION:Join us for an unforgettable evening celebrating the beauty and
  challenges of the great outdoors at the Great Divide Trail Film Fest! Tak
 ing place on Wednesday\, May 13th\, 2026\, at the Edmonton Irish Centre in
  Edmonton\, Alberta\, this event is a must-attend for outdoor enthusiasts 
 and film lovers alike. \nBUY TICKETS HERE!\nLocation: Edmonton Irish Cent
 re\, Edmonton\, Alberta \n\nDate &amp\; Time: May 13\, 2026 | Doors open 
 at 6:30 PM | Films begin at 7:00 PM \n\nEnjoy a carefully curated selecti
 on of short films showcasing stunning landscapes\, exhilarating adventures
 \, and the diverse stories of outdoor enthusiasts\, including thru-hikers\
 , weekend adventurers\, trail-builders\, and more. \nIn-Person Event:  
 \n\n\n\n\nThis satellite screening is a more casual take on our Calgary ev
 ent\; same great films\, with a laid-back\, social vibe.\n\n\n\n\n\n\nYou 
 asked\, and we listened.\n\nFor the first time\, we’re bringing the Grea
 t Divide Trail Film Festival to Edmonton! Join us for a relaxed evening of
  inspiring trail films\, community connection\, and fundraising in support
  of the GDTA.\n\nCome hang out\, enjoy some snacks on us\, and connect wit
 h fellow outdoor enthusiasts who share a love for wild places. The event w
 ill take place at the Edmonton Irish Centre\, with drinks available for 
 purchase.\n\nExpect a low-key atmosphere\; just good films\, good company\
 , and a chance to support the trail. Whether you’re a long-time supporte
 r or just curious about the GDT\, we’d love to see you there.\n\n\n\nTic
 ket Costs: \n\n$35 for the in-person event \n\nBUY TICKETS HERE!
ATTACH;FMTTYPE=image/jpeg:https://greatdividetrail.com/wp-content/uploads/
 2026/03/2026FilmFest_TitleSlideEdmonton-copy.png
CATEGORIES:In Person Events
LOCATION:Edmonton Irish Centre\, 12546 126 St NW\, Edmonton\, Alberta\, T5L
 0X3\, Canada
X-APPLE-STRUCTURED-LOCATION;VALUE=URI;X-ADDRESS=12546 126 St NW\, Edmonton\
 , Alberta\, T5L0X3\, Canada;X-APPLE-RADIUS=100;X-TITLE=Edmonton Irish Cent
 re:geo:0,0
END:VEVENT
BEGIN:VTIMEZONE
TZID:America/Edmonton
X-LIC-LOCATION:America/Edmonton
BEGIN:DAYLIGHT
DTSTART:20260308T030000
TZOFFSETFROM:-0700
TZOFFSETTO:-0600
TZNAME:MDT
END:DAYLIGHT
END:VTIMEZONE
END:VCALENDAR