BEGIN:VCALENDAR
VERSION:2.0
PRODID:-//wp-events-plugin.com//7.2.3.1//EN
TZID:America/Vancouver
X-WR-TIMEZONE:America/Vancouver
BEGIN:VEVENT
UID:50@greatdividetrail.com
DTSTART;TZID=America/Edmonton:20260416T180000
DTEND;TZID=America/Edmonton:20260416T220000
DTSTAMP:20260330T222958Z
URL:https://greatdividetrail.com/events/great-divide-trail-spring-fling/
SUMMARY:Great Divide Trail Spring Fling!
DESCRIPTION:Save the Date!\nOur first Spring Fling is just around the corne
 r and we’d love to see you there.\nDate: Wednesday\, April 16\nTime: 6:0
 0 to 10:00 PM\nLocation: Prairie Dog Brewing\nShake off the winter and joi
 n the Great Divide Trail community for a relaxed evening filled with good 
 people\, great conversations\, and local craft beer. Whether you’ve spen
 t time on the trail\, supported from afar\, volunteered\, or are simply cu
 rious about what the GDT is all about\, you’ll feel right at home.\nBrin
 g a friend who could use a little spring energy and a good night out.\nFri
 endly reminder: we’re just steps from the Chinook LRT Station\, so getti
 ng there is easy.
ATTACH;FMTTYPE=image/jpeg:https://greatdividetrail.com/wp-content/uploads/
 2026/02/Spring.png
CATEGORIES:In Person Events
LOCATION:Prairie Dog Brewing\, 105 58 Ave SE\, Calgary\, Alberta\, T2H 0N8\
 , Canada
X-APPLE-STRUCTURED-LOCATION;VALUE=URI;X-ADDRESS=105 58 Ave SE\, Calgary\, A
 lberta\, T2H 0N8\, Canada;X-APPLE-RADIUS=100;X-TITLE=Prairie Dog Brewing:g
 eo:0,0
END:VEVENT
BEGIN:VTIMEZONE
TZID:America/Edmonton
X-LIC-LOCATION:America/Edmonton
BEGIN:DAYLIGHT
DTSTART:20260308T030000
TZOFFSETFROM:-0700
TZOFFSETTO:-0600
TZNAME:MDT
END:DAYLIGHT
END:VTIMEZONE
END:VCALENDAR