BEGIN:VCALENDAR
VERSION:2.0
PRODID:-//wp-events-plugin.com//7.2.3.1//EN
TZID:America/Vancouver
X-WR-TIMEZONE:America/Vancouver
BEGIN:VEVENT
UID:52@greatdividetrail.com
DTSTART;TZID=America/Edmonton:20260612T000000
DTEND;TZID=America/Edmonton:20260614T000000
DTSTAMP:20260408T204519Z
URL:https://greatdividetrail.com/events/trail-days-festival/
SUMMARY:Trail Days Festival
DESCRIPTION:\n\nSAVE THE DATE: Trail Days | June 12–14\, 2026 | Crowsnest
  Pass\, Alberta\n\n\n\n\nJoin us for the first-ever Trail Days Festival as
  we celebrate 50 years of the Great Divide Trail Association. Enjoy a week
 end of music\, inspiring speakers\, and all things trails.\n\n\n\n\nDetail
 s and tickets coming soon!\n\n
ATTACH;FMTTYPE=image/jpeg:https://greatdividetrail.com/wp-content/uploads/
 2026/04/Leith_IMG_2475_940px_text.jpg
CATEGORIES:In Person Events
END:VEVENT
BEGIN:VTIMEZONE
TZID:America/Edmonton
X-LIC-LOCATION:America/Edmonton
BEGIN:DAYLIGHT
DTSTART:20260308T030000
TZOFFSETFROM:-0700
TZOFFSETTO:-0600
TZNAME:MDT
END:DAYLIGHT
END:VTIMEZONE
END:VCALENDAR