BEGIN:VCALENDAR
VERSION:2.0
PRODID:-//wp-events-plugin.com//7.2.3.1//EN
TZID:America/Vancouver
X-WR-TIMEZONE:America/Vancouver
BEGIN:VEVENT
UID:30@greatdividetrail.com
DTSTART;TZID=America/Vancouver:20251016T190000
DTEND;TZID=America/Vancouver:20251016T210000
DTSTAMP:20251014T151033Z
URL:https://greatdividetrail.com/events/trail-info-night-vernon-bc/
SUMMARY:Trail Info Night - Vernon BC
DESCRIPTION:Are you Great Divide Trail curious? We are having a presentatio
 n at Valhalla Pure Outfitters and can’t wait to show you what we are all
  about.
CATEGORIES:In Person Events
LOCATION:VPO Vernon\, 2814 48 Ave\, Vernon\, BC\, Canada
X-APPLE-STRUCTURED-LOCATION;VALUE=URI;X-ADDRESS=2814 48 Ave\, Vernon\, BC\,
  Canada;X-APPLE-RADIUS=100;X-TITLE=VPO Vernon:geo:0,0
END:VEVENT
BEGIN:VTIMEZONE
TZID:America/Vancouver
X-LIC-LOCATION:America/Vancouver
BEGIN:DAYLIGHT
DTSTART:20250309T030000
TZOFFSETFROM:-0800
TZOFFSETTO:-0700
TZNAME:PDT
END:DAYLIGHT
END:VTIMEZONE
END:VCALENDAR