BEGIN:VCALENDAR
VERSION:2.0
PRODID:-//wp-events-plugin.com//7.2.3.1//EN
TZID:America/Vancouver
X-WR-TIMEZONE:America/Vancouver
BEGIN:VEVENT
UID:16@greatdividetrail.com
DTSTART;TZID=America/Edmonton;VALUE=DATE:20240710
DTEND;TZID=America/Edmonton;VALUE=DATE:20240716
DTSTAMP:20240316T201037Z
URL:https://greatdividetrail.com/events/trip-6-south-hidden-creek-bridge-b
 uilding-trip/
SUMMARY:Trip #6 - South Hidden Creek Bridge Building Trip
DESCRIPTION:Join the Great Divide Trail Association for a bridge building t
 rip on the Original GDT where the crew will be replacing two older bridges
  over South Hidden Creek. Bridge building trips involve technical construc
 tion techniques so volunteers with wood and bridge construction experience
  are preferred.\n\n 	Volunteers are responsible for bringing their own clo
 thing and camping gear\, e.g. tent\, sleeping bag.\n 	Volunteers are respo
 nsible for bringing and cooking their own food.\n 	While trail building ex
 perience is not mandatory\, volunteers should have experience backcountry 
 camping and hiking.\n 	Trips are free for GDTA Members.\n 	Carpooling assi
 stance will be coordinated by the GDTA this year for those interested.\n 	
 The GDTA will provide all trail maintenance tools\, tool training\, and sa
 fety orientation for all trips.\n\nFor more information check out our Volu
 nteer Guide.\n\n
ATTACH;FMTTYPE=image/jpeg:https://greatdividetrail.com/wp-content/uploads/
 2024/02/20230817_154438-scaled.jpg
CATEGORIES:Bridge Building Trip
LOCATION:Hidden Creek\, Tornado Mountain\, Ranchland\, Alberta\, Canada
GEO:49.966667;-114.655
X-APPLE-STRUCTURED-LOCATION;VALUE=URI;X-ADDRESS=Tornado Mountain\, Ranchlan
 d\, Alberta\, Canada;X-APPLE-RADIUS=100;X-TITLE=Hidden Creek:geo:49.966667
 ,-114.655
END:VEVENT
BEGIN:VTIMEZONE
TZID:America/Edmonton
X-LIC-LOCATION:America/Edmonton
BEGIN:DAYLIGHT
DTSTART:20240310T030000
TZOFFSETFROM:-0700
TZOFFSETTO:-0600
TZNAME:MDT
END:DAYLIGHT
END:VTIMEZONE
END:VCALENDAR