BEGIN:VCALENDAR
VERSION:2.0
PRODID:-//wp-events-plugin.com//7.2.3.1//EN
TZID:America/Vancouver
X-WR-TIMEZONE:America/Vancouver
BEGIN:VEVENT
UID:45@greatdividetrail.com
DTSTART;TZID=America/Edmonton;VALUE=DATE:20260814
DTEND;TZID=America/Edmonton;VALUE=DATE:20260817
DTSTAMP:20260328T160123Z
URL:https://greatdividetrail.com/events/trip-8-cache-creek-weekend-base-ca
 mp-trip/
SUMMARY:Trip #8 – Cache Creek Weekend Base Camp Trip
DESCRIPTION:This shorter trip will focus on trail maintenance and campgroun
 d improvements. Volunteers must be able to hike up to 5 km per day carryin
 g daypacks and tools. Volunteers will be able to drive right to base camp.
  Volunteers must bring their own food and camping gear.\n\nIf the trip is 
 showing full\, please contact trailbuilding@greatdividetrail.com to be add
 ed to the wait list.\n\n 	Trips are free for GDTA Members.\n 	Carpooling a
 ssistance may be coordinated by the GDTA for those interested.\n 	The GDTA
  will provide all trail maintenance tools\, tool training\, and safety ori
 entation for all trips.\n 	For more information on what to expect while yo
 u’re volunteering on a GDTA trail crew\, including descriptions of our d
 ifferent Trip Models\, check out the GDTA Volunteer Guide.\n\n
ATTACH;FMTTYPE=image/jpeg:https://greatdividetrail.com/wp-content/uploads/
 2025/09/admiringtheview_button.jpg
CATEGORIES:Base Camp Trip
LOCATION:Cache Creek\, Beehive Natural Area\, Ranchland No. 66\, AB\, Canad
 a
X-APPLE-STRUCTURED-LOCATION;VALUE=URI;X-ADDRESS=Beehive Natural Area\, Ranc
 hland No. 66\, AB\, Canada;X-APPLE-RADIUS=100;X-TITLE=Cache Creek:geo:0,0
END:VEVENT
BEGIN:VTIMEZONE
TZID:America/Edmonton
X-LIC-LOCATION:America/Edmonton
BEGIN:DAYLIGHT
DTSTART:20260308T030000
TZOFFSETFROM:-0700
TZOFFSETTO:-0600
TZNAME:MDT
END:DAYLIGHT
END:VTIMEZONE
END:VCALENDAR